BEGIN:VCALENDAR
VERSION:2.0
PRODID:-//Eventin//Event Calendar//EN
CALSCALE:GREGORIAN
METHOD:PUBLISH
BEGIN:VEVENT
UID:8d5a824a3acc8d2ed1266a71d20da23a@disc.events
SUMMARY:Dr. Josep Kan – Understanding the Implant Papilla: The Ortho-Peri
 o-Restorative Connection
DESCRIPTION:Joseph Kan\, DDS\, MS\, Prosthodontist\, Loma Linda\, Californi
 a\n\n\n\n\n\n\n\nUnderstanding the Implant Papilla: The Ortho-Perio-Restora
 tive Connection\n\n\n\nProgram AbstractOptimizing implant papilla esthetics
  is challenging and demanding. To create papilla that emulates nature is a 
 fusion of science and art. Understanding the biologic and physiologic limit
 ations of soft and hard tissue will facilitate predictability in simple to 
 complex situations. This presentation will focus on current treatment philo
 sophies and methodologies for papilla management around single and multiple
  adjacent implants in the esthetic zone. Emphasis will be placed on diagnos
 is and treatment planning\, surgical and prosthetic management of soft and 
 hard tissue.\n\n\n\nLearning objectives:\n\n\n\n\n- Management of implant p
 apilla complications.\n\n\n\n- Understand how bone and periodontal attachme
 nts can affect papilla.\n\n\n\n- Understand benefits and limitations of ort
 hodontics\, periodontics and restorative.dentistry had on papilla managemen
 t.\n\n\n\n\n\n\n\n\n\n\n\n\n\n\n\n\n\nJOIN DISC 2026 TODAY!
LOCATION:Patterson Dental\, 6840 S. Quentin St.\, Suite 120\, Centennial\, 
 CO 80112
DTSTAMP:20260422T105046Z
DTSTART:20260917T233000Z
DTEND:20260918T023000Z
END:VEVENT
END:VCALENDAR
