BEGIN:VCALENDAR
VERSION:2.0
PRODID:-//Eventin//Event Calendar//EN
CALSCALE:GREGORIAN
METHOD:PUBLISH
BEGIN:VEVENT
UID:a8d242c50be95699cfdfd87fd7b8a1df@disc.events
SUMMARY:Dr. Mark Montana - Understanding the Challenges of Before\, During 
 and After Restoration for Single Tooth Replacement with Dental Implants and
  Mastering the Solutions for Restorative Success
DESCRIPTION:Mark Montana\, DDS\, Prosthodontist\, Tempe\, Arizona\n\n\n\n\n
 \n \n\nUnderstanding the Challenges of Before\, During and After Restorati
 on for Single Tooth Replacement with Dental Implants and Mastering the Solu
 tions for Restorative Success \n\n \nThe placement and restoration of de
 ntal implants into the biologic network of remaining teeth presents numerou
 s challenges. Although the esthetic mimicry of natural teeth may be convinc
 ing\, the pathway to success may be complex as the implant and abutment are
  surrounded by a matrix that continually evolves. In addition\, the restora
 tion of today may be unsatisfactory or inadequate tomorrow so both the clin
 ician and patient benefit by a restorative workflow that maximizes the qual
 ity of the restoration and allows for correction as time passes. By using s
 tate of the art technology with which we can access from a digital process 
 or an analog approach\, we can partner with our supporting laboratory and p
 rovide our patients with an implant crown solution which incorporates funct
 ion\, esthetics\, health\, durability and … retrievability. This presenta
 tion will focus on the challenges we encounter with an implant restoration 
 among natural teeth and will discuss the solutions to provide excellent res
 toration of implants using the latest technology.\nAt the conclusion\, the 
 attendee will understand:\n\nThe advantages of the digital work flow in pro
 viding patient-specific results\nSolutions for dealing with complexities th
 at occur between teeth and implants\nDesigning implant crowns for today and
  the changes brought by tomorrow\n\n \n \nJOIN DISC 2026 TODAY!\n 
LOCATION:Patterson Dental\, 6840 S. Quentin St.\, Suite 120\, Centennial\, 
 CO 80112
DTSTAMP:20260422T104923Z
DTSTART:20260514T233000Z
DTEND:20260515T023000Z
END:VEVENT
END:VCALENDAR
